BEGIN:VCALENDAR
PRODID:-//eluceo/ical//2.0/EN
VERSION:2.0
CALSCALE:GREGORIAN
BEGIN:VEVENT
UID:b3b6a98b8c73295ff2334a7232fa3e0b
DTSTAMP:20260423T162404Z
SUMMARY:produit-276925 - Date de vente : 25/02/2014
DESCRIPTION:Nom du lots : \n\nA beaded primrose-yellow muslin flapper dress
 \, late 1920s\, the ground covered with silver vermicular patterning\, wit
 h seed-bead flowerheads\, vertical gold and silver sequined stripes and go
 ld beaded fringes to the hem which dips into points at the sides\, bust 86
 cm\, 34in\n
DTSTART;VALUE=DATE:20140225
END:VEVENT
END:VCALENDAR
