BEGIN:VCALENDAR
PRODID:-//eluceo/ical//2.0/EN
VERSION:2.0
CALSCALE:GREGORIAN
BEGIN:VEVENT
UID:7c0bf90b5289936c2f0d4737a40a195c
DTSTAMP:20260422T142211Z
SUMMARY:emanuel-ungaro-couture-circa-1970-pardessus - Date de vente : 05/11
 /2013
DESCRIPTION:Nom du lots : Emanuel UNGARO Couture\, circa 1970 PARDESSUS...\
 n\nEmanuel UNGARO Couture\, circa 1970\n PARDESSUS en peau café au lait\,
  col cranté sur simple boutonnage métallique\, rappel sur les poignets d
 roits\, deux poches plaquées à revers (griffe blanche\, graphisme noir) 
 (env TS/M) (mini salissure)
DTSTART;VALUE=DATE:20131105
END:VEVENT
END:VCALENDAR
