BEGIN:VCALENDAR
PRODID:-//eluceo/ical//2.0/EN
VERSION:2.0
CALSCALE:GREGORIAN
BEGIN:VEVENT
UID:369195785e2818237c000a2bfde63626
DTSTAMP:20260422T142452Z
SUMMARY:pierre-cardin-circa-197880-manteau-910 - Date de vente : 05/11/2013
DESCRIPTION:Nom du lots : Pierre CARDIN\, circa 1978/80 MANTEAU 9/10...\n\n
 Pierre CARDIN\, circa 1978/80\n MANTEAU 9/10 en laine et cachemire rouge\,
  col montant s’attachant à l’aide de quatre boutons à brides sur l
 ’épaule gauche\, parementure supérieure ornée de découpes rayonnante
 s\, manches longues à même\, deux poches dans les cou
DTSTART;VALUE=DATE:20131105
END:VEVENT
END:VCALENDAR
