BEGIN:VCALENDAR
PRODID:-//eluceo/ical//2.0/EN
VERSION:2.0
CALSCALE:GREGORIAN
BEGIN:VEVENT
UID:0c01ce0d6def067ae750d3938ebe28fe
DTSTAMP:20260422T142452Z
SUMMARY:chanel-1999-ensemble-en-soie-ivoire-et - Date de vente : 05/11/2013
DESCRIPTION:Nom du lots : CHANEL (1999) ENSEMBLE en soie ivoire et...\n\nCH
 ANEL (1999)\n ENSEMBLE en soie ivoire et lurex irisé nacré : MANTEAU cro
 isé 9/10 à col cranté sur double boutonnage siglé\, poignets fendus\, 
 deux poches dans les coutures\, ROBE à fines bretelles\, décolleté en p
 ointe (T40)
DTSTART;VALUE=DATE:20131105
END:VEVENT
END:VCALENDAR
