BEGIN:VCALENDAR
PRODID:-//eluceo/ical//2.0/EN
VERSION:2.0
CALSCALE:GREGORIAN
BEGIN:VEVENT
UID:751f5673c5ae71f676ea8a328ece4f7d
DTSTAMP:20260422T142205Z
SUMMARY:givenchy-circa-198590-ensemble-en-crpe - Date de vente : 05/11/2013
DESCRIPTION:Nom du lots : GIVENCHY\, circa 1985/90 ENSEMBLE en crêpe...\n\
 nGIVENCHY\, circa 1985/90\n ENSEMBLE en crêpe de laine vermillon\, VESTE 
 légèrement cintrée à encolure ronde sur simple boutonnage en métal do
 ré\, rappel aux poignets\, quatre fausses poches à rabat\, PANTALON droi
 t à taille haute munie de pinces\, deux poches (e
DTSTART;VALUE=DATE:20131105
END:VEVENT
END:VCALENDAR
