BEGIN:VCALENDAR
PRODID:-//eluceo/ical//2.0/EN
VERSION:2.0
CALSCALE:GREGORIAN
BEGIN:VEVENT
UID:964ab526c8cbbfee5a7beadd36b176d5
DTSTAMP:20260422T142411Z
SUMMARY:givenchy-nouvelle-boutique-circa-1980-cape - Date de vente : 05/11/
 2013
DESCRIPTION:Nom du lots : GIVENCHY Nouvelle Boutique\, circa 1980 CAPE...\n
 \nGIVENCHY Nouvelle Boutique\, circa 1980\n CAPE du soir en velours de soi
 e et satin noire\, col cranté sur double boutonnage recouvert\, passes-br
 as
DTSTART;VALUE=DATE:20131105
END:VEVENT
END:VCALENDAR
