BEGIN:VCALENDAR
PRODID:-//eluceo/ical//2.0/EN
VERSION:2.0
CALSCALE:GREGORIAN
BEGIN:VEVENT
UID:d148e634b161c523755dff398f45054a
DTSTAMP:20260422T160453Z
SUMMARY:guy-laroche-diffusion-anonyme-veste-en - Date de vente : 05/11/2013
DESCRIPTION:Nom du lots : Guy LAROCHE Diffusion\, ANONYME VESTE en...\n\nGu
 y LAROCHE Diffusion\, ANONYME\n VESTE en lainage matelassé rouge gansée 
 noire\, petit col montant sur double boutonnage\, deux poches verticales (
 T38). Nous y joignons DEUX JUPES noires\, la première maxi en cachemire n
 oire entièrement boutonnée sur le devan
DTSTART;VALUE=DATE:20131105
END:VEVENT
END:VCALENDAR
