BEGIN:VCALENDAR
PRODID:-//eluceo/ical//2.0/EN
VERSION:2.0
CALSCALE:GREGORIAN
BEGIN:VEVENT
UID:e346c495859378c92a8a57707085ff95
DTSTAMP:20260422T160813Z
SUMMARY:anonyme-couture-daprs-un-patron-dyves - Date de vente : 05/11/2013
DESCRIPTION:Nom du lots : ANONYME Couture d’après un patron d’Yves...\
 n\nANONYME Couture d’après un patron d’Yves Saint Laurent (tissu : Ab
 raham)\n ENSEMBLE en soie façonnée imprimé à décor de cachemires fant
 aisies dans les tons automnaux sur fond noir : TUNIQUE d’inspiration sla
 ve à petit col montant se nouant sur l’épaule gau
DTSTART;VALUE=DATE:20131105
END:VEVENT
END:VCALENDAR
