BEGIN:VCALENDAR
PRODID:-//eluceo/ical//2.0/EN
VERSION:2.0
CALSCALE:GREGORIAN
BEGIN:VEVENT
UID:753a450b805c215c7e79fe0a60ea633f
DTSTAMP:20260422T161621Z
SUMMARY:anonyme-circa-196070-robe-dhtesse-en - Date de vente : 05/11/2013
DESCRIPTION:Nom du lots : ANONYME\, circa 1960/70 ROBE d’hôtesse en...\n
 \nANONYME\, circa 1960/70\n ROBE d’hôtesse en velours de soie noire agr
 émenté d’un col rabattu en vison blanc\, manches trois-quarts\, fermet
 ure éclair sous revers s’attachant à l’aide de pressions (env TS/M)
DTSTART;VALUE=DATE:20131105
END:VEVENT
END:VCALENDAR
