BEGIN:VCALENDAR
PRODID:-//eluceo/ical//2.0/EN
VERSION:2.0
CALSCALE:GREGORIAN
BEGIN:VEVENT
UID:fcf1e0b26d32bc15397b0d91ef6107e9
DTSTAMP:20260422T160746Z
SUMMARY:chanel-boutique-tailleur-en-crpe-de-coton - Date de vente : 05/11/2
 013
DESCRIPTION:Nom du lots : CHANEL Boutique TAILLEUR en crêpe de coton...\n\
 nCHANEL Boutique\n TAILLEUR en crêpe de coton rose dragée : VESTE légè
 rement cintrée\, encolure en pointe sur simple boutonnage en bakélite re
 haussé du sigle doré\, rappel aux poignets\, quatre poches plaquées\, J
 UPE droite à lès (TS/M) (mini salissure sur jupe
DTSTART;VALUE=DATE:20131105
END:VEVENT
END:VCALENDAR
