BEGIN:VCALENDAR
PRODID:-//eluceo/ical//2.0/EN
VERSION:2.0
CALSCALE:GREGORIAN
BEGIN:VEVENT
UID:f7d5b67b95cefcf46abeffc394eee0ca
DTSTAMP:20260422T160956Z
SUMMARY:christian-dior-haute-couture-n13386-par - Date de vente : 05/11/201
 3
DESCRIPTION:Nom du lots : Christian DIOR Haute Couture n°13386 par...\n\nC
 hristian DIOR Haute Couture n°13386 par Marc Bohan (automne-hiver 1980/81
 )\n ROBE de COCKTAIL en crêpe de soie façonné noire partiellement trava
 illée en biais\, encolure ronde gansée d’un biais en velours à la cou
 leur se transformant en noeud et soulignée
DTSTART;VALUE=DATE:20131105
END:VEVENT
END:VCALENDAR
