BEGIN:VCALENDAR
PRODID:-//eluceo/ical//2.0/EN
VERSION:2.0
CALSCALE:GREGORIAN
BEGIN:VEVENT
UID:29ff7b41f772bed349ddd78b4f79fbc6
DTSTAMP:20260422T160753Z
SUMMARY:pierre-balmain-haute-couture-circa-195558 - Date de vente : 05/11/2
 013
DESCRIPTION:Nom du lots : Pierre BALMAIN Haute Couture\, circa 1955/58...\n
 \nPierre BALMAIN Haute Couture\, circa 1955/58\n ROBE en ottoman de soie f
 antaisie rose thé\, corsage baleiné à encolure américaine crantée sur
  petit boutonnage jusqu’à la taille\, celle-ci agrémentée d’une dé
 coupe\, rappel au bas du dos\, ample jupe doublée de t
DTSTART;VALUE=DATE:20131105
END:VEVENT
END:VCALENDAR
