BEGIN:VCALENDAR
PRODID:-//eluceo/ical//2.0/EN
VERSION:2.0
CALSCALE:GREGORIAN
BEGIN:VEVENT
UID:d04623531279fa9c2baab899652b402d
DTSTAMP:20260422T162104Z
SUMMARY:anonyme-manteau-rversible-mi-mollets-en - Date de vente : 05/11/201
 3
DESCRIPTION:Nom du lots : ANONYME MANTEAU réversible mi-mollets en...\n\nA
 NONYME\n MANTEAU réversible mi-mollets en vison femelle brown d’un côt
 é et daim de l’autre\, ce dernier orné de découpes surjetées\, col m
 ontant sur boutonnage à brides\, deux poches dans les coutures (env TM)
DTSTART;VALUE=DATE:20131105
END:VEVENT
END:VCALENDAR
