BEGIN:VCALENDAR
PRODID:-//eluceo/ical//2.0/EN
VERSION:2.0
CALSCALE:GREGORIAN
BEGIN:VEVENT
UID:3ae7e60239c24a119d6b03507edd8c94
DTSTAMP:20260422T160955Z
SUMMARY:rebecca-gilet-sans-manches-en-renard-argent - Date de vente : 05/11
 /2013
DESCRIPTION:Nom du lots : REBECCA GILET sans manches en renard argenté\,..
 .\n\nREBECCA\n GILET sans manches en renard argenté\, encolure ronde sur 
 parementures s’attachant à l’aide de crochets (env TS/M)
DTSTART;VALUE=DATE:20131105
END:VEVENT
END:VCALENDAR
