BEGIN:VCALENDAR
PRODID:-//eluceo/ical//2.0/EN
VERSION:2.0
CALSCALE:GREGORIAN
BEGIN:VEVENT
UID:bba0074bd981d4746b9ab06b44818c0d
DTSTAMP:20260422T161038Z
SUMMARY:cristiano-di-thiene-long-manteau-en-mouton - Date de vente : 05/11/
 2013
DESCRIPTION:Nom du lots : Cristiano di THIENE Long MANTEAU en mouton...\n\n
 Cristiano di THIENE\n Long MANTEAU en mouton retourné lustré chocolat\, 
 col cranté sur simple boutonnage\, deux poches plaquées\, poignets à re
 vers\, taille agrémentée d’une ceinture-lien (T40 it)
DTSTART;VALUE=DATE:20131105
END:VEVENT
END:VCALENDAR
