BEGIN:VCALENDAR
PRODID:-//eluceo/ical//2.0/EN
VERSION:2.0
CALSCALE:GREGORIAN
BEGIN:VEVENT
UID:80acd3b198fb725e8f447237965c5409
DTSTAMP:20260422T160611Z
SUMMARY:chanel-cabas-rabat-en-cuir-grain-bne - Date de vente : 05/11/2013
DESCRIPTION:Nom du lots : CHANEL CABAS à rabat en cuir grainé ébène\,..
 .\n\nCHANEL\n CABAS à rabat en cuir grainé ébène\, fermoir pivotant si
 glé vernissé noir\, poignées (env 40 x 34 cm) (très bon état avec min
 i rayures sur le dessous)
DTSTART;VALUE=DATE:20131105
END:VEVENT
END:VCALENDAR
