BEGIN:VCALENDAR
PRODID:-//eluceo/ical//2.0/EN
VERSION:2.0
CALSCALE:GREGORIAN
BEGIN:VEVENT
UID:31b4c5ec141feb4fcd3de9506172468a
DTSTAMP:20260422T160809Z
SUMMARY:yves-saint-laurent-circa-1990-cabas-en - Date de vente : 05/11/2013
DESCRIPTION:Nom du lots : Yves SAINT LAURENT\, circa 1990 CABAS en...\n\nYv
 es SAINT LAURENT\, circa 1990\n CABAS en toile bleue et cuir glacé noir (
 très légère patine d’usage)
DTSTART;VALUE=DATE:20131105
END:VEVENT
END:VCALENDAR
