BEGIN:VCALENDAR
PRODID:-//eluceo/ical//2.0/EN
VERSION:2.0
CALSCALE:GREGORIAN
BEGIN:VEVENT
UID:610a528294766563d8f8f6d237c72a30
DTSTAMP:20260422T160746Z
SUMMARY:christian-dior-par-john-galliano-1996-2011 - Date de vente : 05/11/
 2013
DESCRIPTION:Nom du lots : Christian DIOR par John Galliano (1996-2011)...\n
 \nChristian DIOR par John Galliano (1996-2011)\n SAC du SOIR en satin noir
  muni d’une poignée perlée en bakélite à la couleur (très bon état
 )
DTSTART;VALUE=DATE:20131105
END:VEVENT
END:VCALENDAR
