BEGIN:VCALENDAR
PRODID:-//eluceo/ical//2.0/EN
VERSION:2.0
CALSCALE:GREGORIAN
BEGIN:VEVENT
UID:5532fae6ac6fbdfece211adb9bf6796d
DTSTAMP:20260422T160925Z
SUMMARY:hermes-paris-carre-en-twill-de-soie-imprim - Date de vente : 05/11/
 2013
DESCRIPTION:Nom du lots : HERMES Paris CARRE en twill de soie imprimé...\n
 \nHERMES Paris\n CARRE en twill de soie imprimé à décor de volailles (p
 etites taches d’encre et mini trou)
DTSTART;VALUE=DATE:20131105
END:VEVENT
END:VCALENDAR
