BEGIN:VCALENDAR
PRODID:-//eluceo/ical//2.0/EN
VERSION:2.0
CALSCALE:GREGORIAN
BEGIN:VEVENT
UID:9e0557a73aed4f29cee6db203a3da3bf
DTSTAMP:20260422T160813Z
SUMMARY:yves-saint-laurent-rive-gauche-par-stefano - Date de vente : 05/11/
 2013
DESCRIPTION:Nom du lots : Yves SAINT LAURENT Rive Gauche par Stefano...\n\n
 Yves SAINT LAURENT Rive Gauche par Stefano Pilati\n PAIRE de MOCASSINS à 
 picots en daim cannelle et cuir métallisé doré (P37 it) (excellent éta
 t)
DTSTART;VALUE=DATE:20131105
END:VEVENT
END:VCALENDAR
