BEGIN:VCALENDAR
PRODID:-//eluceo/ical//2.0/EN
VERSION:2.0
CALSCALE:GREGORIAN
BEGIN:VEVENT
UID:44415dff22c1e8650d870368b704750c
DTSTAMP:20260422T161037Z
SUMMARY:souliers-christian-dior-circa-196870-paire - Date de vente : 05/11/
 2013
DESCRIPTION:Nom du lots : Souliers Christian DIOR\, circa 1968/70 PAIRE...\
 n\nSouliers Christian DIOR\, circa 1968/70\n PAIRE d’ESCARPINS du soir e
 n crêpe noir ornés d’un noeud\, celui-ci rehaussé d’un médaillon s
 trassé (P6) (manque un strass sur pied gauche)
DTSTART;VALUE=DATE:20131105
END:VEVENT
END:VCALENDAR
