BEGIN:VCALENDAR
PRODID:-//eluceo/ical//2.0/EN
VERSION:2.0
CALSCALE:GREGORIAN
BEGIN:VEVENT
UID:f653cab7f6d5a058e313534cc1d430b2
DTSTAMP:20260422T160955Z
SUMMARY:yves-saint-laurent-ceinture-lastique-en - Date de vente : 05/11/201
 3
DESCRIPTION:Nom du lots : Yves SAINT LAURENT CEINTURE élastique en...\n\nY
 ves SAINT LAURENT\n CEINTURE élastique en passementerie bleu dur agrémen
 tée d’une boucle circulaire en métal doré (siglée sur plaque)
DTSTART;VALUE=DATE:20131105
END:VEVENT
END:VCALENDAR
