BEGIN:VCALENDAR
PRODID:-//eluceo/ical//2.0/EN
VERSION:2.0
CALSCALE:GREGORIAN
BEGIN:VEVENT
UID:1c71798f44c66418529002fce616f325
DTSTAMP:20260422T160627Z
SUMMARY:givenchy-nouvelle-boutique-circa-198085 - Date de vente : 05/11/201
 3
DESCRIPTION:Nom du lots : GIVENCHY Nouvelle Boutique\, circa 1980/85...\n\n
 GIVENCHY Nouvelle Boutique\, circa 1980/85\n ROBE-BUSTIER baleinée en tul
 le marine broché de lamé à la couleur figurant un motif floral\, décol
 leté et ourlet festonnés\, taille soulignée d’une découpe retenant d
 e petites fronces. Se porte sous un BOLERO volan
DTSTART;VALUE=DATE:20131105
END:VEVENT
END:VCALENDAR
