BEGIN:VCALENDAR
PRODID:-//eluceo/ical//2.0/EN
VERSION:2.0
CALSCALE:GREGORIAN
BEGIN:VEVENT
UID:8e36a42a7de05b5d37342111f9db40ad
DTSTAMP:20260422T160444Z
SUMMARY:ted-lapidus-circa-1970-ensemble-en-coton - Date de vente : 05/11/20
 13
DESCRIPTION:Nom du lots : Ted LAPIDUS\, circa 1970 ENSEMBLE en coton...\n\n
 Ted LAPIDUS\, circa 1970\n ENSEMBLE en coton imprimé figurant un motif qu
 adrillé dans les tons terre battue\, ocre et noir : VESTE à manches cour
 tes d’inspiration saharienne\, col rabattu sur simple boutonnage\, rappe
 l sur les pattes d’épaules\, quatre poches p
DTSTART;VALUE=DATE:20131105
END:VEVENT
END:VCALENDAR
