BEGIN:VCALENDAR
PRODID:-//eluceo/ical//2.0/EN
VERSION:2.0
CALSCALE:GREGORIAN
BEGIN:VEVENT
UID:d2d839e381ed6ec8265ff1cb8dd5f3bc
DTSTAMP:20260422T160611Z
SUMMARY:yves-saint-laurent-variation-saint-laurent - Date de vente : 05/11/
 2013
DESCRIPTION:Nom du lots : Yves SAINT LAURENT Variation\, SAINT LAURENT...\n
 \nYves SAINT LAURENT Variation\, SAINT LAURENT Rive Gauche\, circa 1985/90
 \n VESTE cintrée en velours de coton mélangé groseille\, encolure en po
 inte sur simple boutonnage\, martingale nouée au dos (env TM). Nous y joi
 gnons un PANTALON en velours noir à taille é
DTSTART;VALUE=DATE:20131105
END:VEVENT
END:VCALENDAR
