BEGIN:VCALENDAR
PRODID:-//eluceo/ical//2.0/EN
VERSION:2.0
CALSCALE:GREGORIAN
BEGIN:VEVENT
UID:7afa005dfb7c832e4339746ff642bb6c
DTSTAMP:20260422T160635Z
SUMMARY:chanel-boutique-1997-ensemble-en-serg - Date de vente : 05/11/2013
DESCRIPTION:Nom du lots : CHANEL Boutique (1997) ENSEMBLE en sergé...\n\nC
 HANEL Boutique (1997)\n ENSEMBLE en sergé de laine lichen : VESTE longue 
 légèrement cintrée à col cranté\, trois boutons en métal doré sigl
 és\, rappel aux poignets\, deux poches à rabat\, PANTALON taille haute t
 rès légèrement resserré aux chevilles\, deux poch
DTSTART;VALUE=DATE:20131105
END:VEVENT
END:VCALENDAR
