BEGIN:VCALENDAR
PRODID:-//eluceo/ical//2.0/EN
VERSION:2.0
CALSCALE:GREGORIAN
BEGIN:VEVENT
UID:25f70f6a117066645b48effa6c0de552
DTSTAMP:20260422T162716Z
SUMMARY:hermes-paris-parka-capuche-en-toile-coton - Date de vente : 05/11/2
 013
DESCRIPTION:Nom du lots : HERMES Paris PARKA à capuche en toile coton...\n
 \nHERMES Paris\n PARKA à capuche en toile  coton sable\, fermeture éclai
 r cachée sous patte pressionnée\, taille et bas coulissés un lien en cu
 ir\, deux poches en biais\, deux poches plaquées à rabat\, doublure en m
 outon écru (TL) (petites salissures)
DTSTART;VALUE=DATE:20131105
END:VEVENT
END:VCALENDAR
