BEGIN:VCALENDAR
PRODID:-//eluceo/ical//2.0/EN
VERSION:2.0
CALSCALE:GREGORIAN
BEGIN:VEVENT
UID:ea53f4a56fefc84158b1e8f343634eff
DTSTAMP:20260422T160925Z
SUMMARY:anonyme-robe-de-cocktail-en-crpe-et-mousseline - Date de vente : 05
 /11/2013
DESCRIPTION:Nom du lots : ANONYME ROBE de cocktail en crêpe et mousseline.
 ..\n\nANONYME\n ROBE de cocktail en crêpe et mousseline de soie noire ins
 pirée des années 1920\, encolure ronde s’attachant par un bouton stras
 sé à la nuque sur petite échancrure\, rappel aux poignets agrémentés 
 de pans flottants formant quatre pointes\, ces derniè
DTSTART;VALUE=DATE:20131105
END:VEVENT
END:VCALENDAR
