BEGIN:VCALENDAR
PRODID:-//eluceo/ical//2.0/EN
VERSION:2.0
CALSCALE:GREGORIAN
BEGIN:VEVENT
UID:7322d479ba0ca89f35c979019636b277
DTSTAMP:20260422T160808Z
SUMMARY:sonia-rykiel-circa-1985-lot-comprenant - Date de vente : 05/11/2013
DESCRIPTION:Nom du lots : Sonia RYKIEL\, circa 1985 LOT comprenant...\n\nSo
 nia RYKIEL\, circa 1985\n LOT comprenant DEUX ROBES sacs en jersey velours
  imprimé\, la première rayée mastic sur fond noir (env TM/L)\, la secon
 de à décor de cachemires verts également sur fond noir (env TM/L)
DTSTART;VALUE=DATE:20131105
END:VEVENT
END:VCALENDAR
