BEGIN:VCALENDAR
PRODID:-//eluceo/ical//2.0/EN
VERSION:2.0
CALSCALE:GREGORIAN
BEGIN:VEVENT
UID:48fbbf2ee9b615b69d0f4267d276d63b
DTSTAMP:20260422T160905Z
SUMMARY:chanel-boutique-tailleur-en-lin-rose-ple - Date de vente : 05/11/20
 13
DESCRIPTION:Nom du lots : CHANEL Boutique TAILLEUR en lin rose pâle...\n\n
 CHANEL Boutique \n TAILLEUR en lin rose pâle : VESTE à col châle\, bout
 onnière\, poignets munis de boutons en métal doré siglés\, deux poches
  plaquées\, JUPE droite agrémentée de trois boutons au dos (env TS) (ma
 nque bouton duette)
DTSTART;VALUE=DATE:20131105
END:VEVENT
END:VCALENDAR
