BEGIN:VCALENDAR
PRODID:-//eluceo/ical//2.0/EN
VERSION:2.0
CALSCALE:GREGORIAN
BEGIN:VEVENT
UID:c698f82ad2c32b3877834892005b3a0b
DTSTAMP:20260422T160752Z
SUMMARY:saint-laurent-rive-gauche-circa-198085 - Date de vente : 05/11/2013
DESCRIPTION:Nom du lots : SAINT LAURENT Rive Gauche\, circa 1980/85...\n\nS
 AINT LAURENT Rive Gauche\, circa 1980/85\n TAILLEUR ’smoking’ en grain
  de poudre et satin noir\, VESTE croisée légèrement cintrée\, col cran
 té sur double boutonnage\, rappel aux poignets\, poche poitrine\, deux po
 ches à rabat (T34)\, JUPE droite (T36)
DTSTART;VALUE=DATE:20131105
END:VEVENT
END:VCALENDAR
