BEGIN:VCALENDAR
PRODID:-//eluceo/ical//2.0/EN
VERSION:2.0
CALSCALE:GREGORIAN
BEGIN:VEVENT
UID:f5a840b1f0b0065f117c1196bc4c429c
DTSTAMP:20260422T160409Z
SUMMARY:hermes-paris-parka-en-polyester-ptrole - Date de vente : 05/11/2013
DESCRIPTION:Nom du lots : HERMES Paris PARKA en polyester pétrole...\n\nHE
 RMES Paris\n PARKA en polyester pétrole doublée de laine et cachemire à
  la couleur\, col rabattu\, fermeture éclair sous patte boutonnée\, deux
  poches zippées\, deux poches à rabat\, taille coulissée par un lien (T
 38)
DTSTART;VALUE=DATE:20131105
END:VEVENT
END:VCALENDAR
