BEGIN:VCALENDAR
PRODID:-//eluceo/ical//2.0/EN
VERSION:2.0
CALSCALE:GREGORIAN
BEGIN:VEVENT
UID:ef5596cdab4b67bf5d65ef4b0d0c0085
DTSTAMP:20260422T160444Z
SUMMARY:chanel-chanel-identification-lot-comprenant - Date de vente : 05/11
 /2013
DESCRIPTION:Nom du lots : CHANEL\, CHANEL Identification LOT comprenant...\
 n\nCHANEL\, CHANEL Identification\n LOT comprenant DEUX PANTALONS en gabar
 dine de coton resserrés aux chevilles\, le premier matelassé sable (T38)
 \, le second noir à revers (T38). Nous y joignons un TROISIEME PANTALON e
 n polyamide gris souris\, poches matelassées
DTSTART;VALUE=DATE:20131105
END:VEVENT
END:VCALENDAR
