BEGIN:VCALENDAR
PRODID:-//eluceo/ical//2.0/EN
VERSION:2.0
CALSCALE:GREGORIAN
BEGIN:VEVENT
UID:dd558b8df6a8e76d307387e0642d0155
DTSTAMP:20260422T160904Z
SUMMARY:christian-dior-boutique-par-gianfranco-ferr - Date de vente : 05/11
 /2013
DESCRIPTION:Nom du lots : Christian DIOR Boutique par Gianfranco Ferré...\
 n\nChristian DIOR Boutique par Gianfranco Ferré (1989-1996)\n HAUT du soi
 r en laine\, coton et mohair marine entièrement rebrodé de paillettes à
  la couleur\, encolure ronde échancrée au dos gansée d’un biais en sa
 tin\, rappel au bas des petites manches ainsi qu’
DTSTART;VALUE=DATE:20131105
END:VEVENT
END:VCALENDAR
