BEGIN:VCALENDAR
PRODID:-//eluceo/ical//2.0/EN
VERSION:2.0
CALSCALE:GREGORIAN
BEGIN:VEVENT
UID:7a9ef9a495cd79a6806991fc0f2a41cc
DTSTAMP:20260422T160634Z
SUMMARY:chanel-2000-ensemble-en-lin-chin-cappuccino - Date de vente : 05/11
 /2013
DESCRIPTION:Nom du lots : CHANEL (2000) ENSEMBLE en lin chiné cappuccino..
 .\n\nCHANEL (2000)\n ENSEMBLE en lin chiné cappuccino : VESTE à col raba
 ttu sur simple boutonnage en bois griffé\, manches trois-quarts à revers
 \, poches poitrine\, deux plis couchés à partir de la taille\, taille é
 lastique au dos\, PANTALON large et droit\, deux poc
DTSTART;VALUE=DATE:20131105
END:VEVENT
END:VCALENDAR
