BEGIN:VCALENDAR
PRODID:-//eluceo/ical//2.0/EN
VERSION:2.0
CALSCALE:GREGORIAN
BEGIN:VEVENT
UID:32bd278e1ecccd85a688dfae362fab06
DTSTAMP:20260422T160257Z
SUMMARY:modle-jacques-heim-sur-authorisation-spciale - Date de vente : 05/1
 1/2013
DESCRIPTION:Nom du lots : Modèle Jacques HEIM sur authorisation spéciale.
 ..\n\nModèle Jacques HEIM sur authorisation spéciale Maria Carine\, circ
 a 1950/55\n ROBE en satin de soie ivoire\, décolleté rond sur échancrur
 e au dos\, découpes en pointes à la taille sur le devant et à l’arri
 ère\, ample jupe agrémentée de plis (env TM) (quelques
DTSTART;VALUE=DATE:20131105
END:VEVENT
END:VCALENDAR
