BEGIN:VCALENDAR
PRODID:-//eluceo/ical//2.0/EN
VERSION:2.0
CALSCALE:GREGORIAN
BEGIN:VEVENT
UID:cbbefa4eeab2f176ff11050c510f4d18
DTSTAMP:20260422T160746Z
SUMMARY:chanel-par-karl-lagerfeld-printemps-t - Date de vente : 05/11/2013
DESCRIPTION:Nom du lots : CHANEL par Karl Lagerfeld (printemps-été...\n\n
 CHANEL par Karl Lagerfeld (printemps-été 1985)\n TAILLEUR en sergé de l
 aine sable : VESTE légèrement cintrée\, encolure en pointe sur simple b
 outonnage en métal vieil or figurant un camélia\, rappel sur les quatre 
 poches verticales ainsi qu’au bas des manche
DTSTART;VALUE=DATE:20131105
END:VEVENT
END:VCALENDAR
