BEGIN:VCALENDAR
PRODID:-//eluceo/ical//2.0/EN
VERSION:2.0
CALSCALE:GREGORIAN
BEGIN:VEVENT
UID:eb61881bd9f6de9eea9c05f7b1f59c63
DTSTAMP:20260422T160611Z
SUMMARY:anonyme-circa-1970-ensemble-en-velours - Date de vente : 05/11/2013
DESCRIPTION:Nom du lots : ANONYME\, circa 1970 ENSEMBLE en velours...\n\nAN
 ONYME\, circa 1970\n ENSEMBLE en velours noir : VESTE à col cranté\, deu
 x boutons recouverts\, rappel aux poignets\, trois poches plaquées\, PANT
 ALON taille haute légèrement pattes d’éléphant (env TS)
DTSTART;VALUE=DATE:20131105
END:VEVENT
END:VCALENDAR
