BEGIN:VCALENDAR
PRODID:-//eluceo/ical//2.0/EN
VERSION:2.0
CALSCALE:GREGORIAN
BEGIN:VEVENT
UID:caeea42ce39a23c6502363435505640a
DTSTAMP:20260422T160634Z
SUMMARY:chanel-1999-tailleur-en-tweed-de-coton - Date de vente : 05/11/2013
DESCRIPTION:Nom du lots : CHANEL (1999) TAILLEUR en tweed de coton...\n\nCH
 ANEL (1999)\n TAILLEUR en tweed de coton mélangé rose poudre orné de d
 écoupes surjetées : VESTE bord à bord à petit col droit\, JUPE longue 
 munie d’une importante fente sur le devant et au dos (T40) (petites sali
 ssures\, mini fils tirés)
DTSTART;VALUE=DATE:20131105
END:VEVENT
END:VCALENDAR
