BEGIN:VCALENDAR
PRODID:-//eluceo/ical//2.0/EN
VERSION:2.0
CALSCALE:GREGORIAN
BEGIN:VEVENT
UID:02d9902d19b29c7d4aca2c851eff26f4
DTSTAMP:20260422T160752Z
SUMMARY:hermes-paris-veste-lgrement-cintre-en - Date de vente : 05/11/2013
DESCRIPTION:Nom du lots : HERMES Paris VESTE légèrement cintrée en...\n\
 nHERMES Paris\n VESTE légèrement cintrée en crêpe de laine bleu layett
 e\, court col cranté sur simple boutonnage siglé\, rappel aux poignets\,
  deux poches zippées (T40)
DTSTART;VALUE=DATE:20131105
END:VEVENT
END:VCALENDAR
