BEGIN:VCALENDAR
PRODID:-//eluceo/ical//2.0/EN
VERSION:2.0
CALSCALE:GREGORIAN
BEGIN:VEVENT
UID:b23d056de0d3485fd2684b710ae19c11
DTSTAMP:20260422T161037Z
SUMMARY:chanel-boutique-ensemble-en-tweed-fantaisie - Date de vente : 05/11
 /2013
DESCRIPTION:Nom du lots : CHANEL Boutique ENSEMBLE en tweed fantaisie...\n\
 nCHANEL Boutique\n ENSEMBLE en tweed fantaisie figurant un motif quadrill
 é rose pale\, jaune et écru rehaussé de lurex translucide : VESTE à co
 l cranté\, parementures\, bas des manches trois-quarts raglan et poches v
 erticales effilochées\, celles-ci ornées de b
DTSTART;VALUE=DATE:20131105
END:VEVENT
END:VCALENDAR
