BEGIN:VCALENDAR
PRODID:-//eluceo/ical//2.0/EN
VERSION:2.0
CALSCALE:GREGORIAN
BEGIN:VEVENT
UID:fb660f518ff4e46ee1295569c8889de3
DTSTAMP:20260422T160813Z
SUMMARY:hermes-paris-par-martin-margiela-1997-2003 - Date de vente : 05/11/
 2013
DESCRIPTION:Nom du lots : HERMES Paris par Martin MARGIELA (1997-2003)...\n
 \nHERMES Paris par Martin MARGIELA (1997-2003)\n VESTE non doublée en cac
 hemire sable\, col cranté\, boutons aux poignets\, poche poitrine\, fente
  dos (T44) (tache au col)
DTSTART;VALUE=DATE:20131105
END:VEVENT
END:VCALENDAR
