BEGIN:VCALENDAR
PRODID:-//eluceo/ical//2.0/EN
VERSION:2.0
CALSCALE:GREGORIAN
BEGIN:VEVENT
UID:6ae5748e87affb755be8ff5eb698ddfd
DTSTAMP:20260423T182450Z
SUMMARY:chloe-par-karl-lagerfeld-modle-de-dfil - Date de vente : 05/11/2013
DESCRIPTION:Nom du lots : CHLOE par Karl Lagerfeld (modèle de défilé)\,.
 ..\n\nCHLOE par Karl Lagerfeld (modèle de défilé)\, circa 1992\n VESTE 
 courte en tweed fantaisie quadrillé multicolore sur fond noisette\, col r
 abattu garni de velours grenat sur simple boutonnage ’spirale’ en mét
 al doré\, rappel aux poignets (griffe blanche\, graph
DTSTART;VALUE=DATE:20131105
END:VEVENT
END:VCALENDAR
