BEGIN:VCALENDAR
PRODID:-//eluceo/ical//2.0/EN
VERSION:2.0
CALSCALE:GREGORIAN
BEGIN:VEVENT
UID:d2706783bac037d92dfca21c3fe90a70
DTSTAMP:20260423T182653Z
SUMMARY:hermes-paris-veste-cintre-en-crpe-de-soie - Date de vente : 05/11/2
 013
DESCRIPTION:Nom du lots : HERMES Paris VESTE cintrée en crêpe de soie...\
 n\nHERMES Paris\n VESTE cintrée en crêpe de soie imprimé d’après le 
 carré titré " Bambou "\, encolure ronde sur simple boutonnage canon de f
 usil\, deux poches à rabat\, effet de ceinture inscrustée au dos (T36) (
 manque bouton\, petits fils tirés)
DTSTART;VALUE=DATE:20131105
END:VEVENT
END:VCALENDAR
