BEGIN:VCALENDAR
PRODID:-//eluceo/ical//2.0/EN
VERSION:2.0
CALSCALE:GREGORIAN
BEGIN:VEVENT
UID:b88ef5f5729909a6198a165084b4b3dd
DTSTAMP:20260423T183031Z
SUMMARY:givenchy-haute-couture-n46294-circa-196872 - Date de vente : 05/11/
 2013
DESCRIPTION:Nom du lots : GIVENCHY Haute Couture n°46294\, circa 1968/72..
 .\n\nGIVENCHY Haute Couture n°46294\, circa 1968/72\n Tailleur en toile d
 e laine marine\, veste à col officier légèrement décollé sur double b
 outonnage en métal doré\, manches longues montées\, deux poches plaqué
 es à revers\, jupe à effet portefeuille\, doublure en s
DTSTART;VALUE=DATE:20131105
END:VEVENT
END:VCALENDAR
