BEGIN:VCALENDAR
PRODID:-//eluceo/ical//2.0/EN
VERSION:2.0
CALSCALE:GREGORIAN
BEGIN:VEVENT
UID:0607df3d486139df8f99692e54e9dc50
DTSTAMP:20260425T105901Z
SUMMARY:chanel-haute-couture-n66965-et-n66966 - Date de vente : 05/11/2013
DESCRIPTION:Nom du lots : CHANEL Haute Couture n°66965 et n°66966\,...\n\
 nCHANEL Haute Couture n°66965 et n°66966\, circa 1978/82\n TAILLEUR en l
 ainage prince de galles ciment\, noir et bordeaux : VESTE gansée de crêp
 e à la couleur\, col cranté sur simple boutonnage\, rappel sur les poign
 ets à revers\, trois poches\, JUPE droite porte
DTSTART;VALUE=DATE:20131105
END:VEVENT
END:VCALENDAR
