BEGIN:VCALENDAR
PRODID:-//eluceo/ical//2.0/EN
VERSION:2.0
CALSCALE:GREGORIAN
BEGIN:VEVENT
UID:429abd6316e6f16f599740bd69797a5a
DTSTAMP:20260423T184813Z
SUMMARY:givenchy-haute-couture-n59168-circa-1975 - Date de vente : 05/11/20
 13
DESCRIPTION:Nom du lots : GIVENCHY Haute Couture n°59168\, circa 1975...\n
 \nGIVENCHY Haute Couture n°59168\, circa 1975\n TAILLEUR en lainage faço
 nné noisette figurant un motif de pois fantaisie ébène et chocolat : VE
 STE à col rabattu sur simple boutonnage\, JUPE droite agrémentée de pli
 s creux sur les côtés (env TS/M) (manque ceint
DTSTART;VALUE=DATE:20131105
END:VEVENT
END:VCALENDAR
