BEGIN:VCALENDAR
PRODID:-//eluceo/ical//2.0/EN
VERSION:2.0
CALSCALE:GREGORIAN
BEGIN:VEVENT
UID:8de74e6f8bd7ee2834bbaae576af8650
DTSTAMP:20260425T105636Z
SUMMARY:revillon-pelisse-impermable-en-toile-de - Date de vente : 05/11/201
 3
DESCRIPTION:Nom du lots : REVILLON PELISSE imperméable en toile de...\n\nR
 EVILLON\n PELISSE imperméable en toile de coton mélangé mastic doublé 
 d’opossum\, col rabattu s’attachant par un bouton\, poignets à revers
 \, deux poches verticales\, taille agrémentée d’une ceinture-lien (TS/
 M)
DTSTART;VALUE=DATE:20131105
END:VEVENT
END:VCALENDAR
