BEGIN:VCALENDAR
PRODID:-//eluceo/ical//2.0/EN
VERSION:2.0
CALSCALE:GREGORIAN
BEGIN:VEVENT
UID:99991dd21d7854d8beb60cf75625685c
DTSTAMP:20260425T105749Z
SUMMARY:christian-dior-sidonie-larizzi-pochette - Date de vente : 05/11/201
 3
DESCRIPTION:Nom du lots : Christian DIOR\, Sidonie LARIZZI POCHETTE...\n\nC
 hristian DIOR\, Sidonie LARIZZI\n POCHETTE à rabat en ottoman noire orné
 e d’un motif mouvementé en métal doré façonné. Nous y joignons un S
 AC en daim noir rehaussé de passementerie et de pompons\, fermeture écla
 ir\, anse bandoulière
DTSTART;VALUE=DATE:20131105
END:VEVENT
END:VCALENDAR
