BEGIN:VCALENDAR
PRODID:-//eluceo/ical//2.0/EN
VERSION:2.0
CALSCALE:GREGORIAN
BEGIN:VEVENT
UID:0c72f07845b8f73d6dc1909620bb4f09
DTSTAMP:20260423T184053Z
SUMMARY:roger-vivier-circa-1960-paire-descarpins - Date de vente : 05/11/20
 13
DESCRIPTION:Nom du lots : Roger VIVIER\, circa 1960 PAIRE d’ESCARPINS...\
 n\nRoger VIVIER\, circa 1960\n PAIRE d’ESCARPINS en crocodile chocolat\,
  empeignes coulissées d’un lien en cuir formant petite boucle (P7\,5) (
 bon état)
DTSTART;VALUE=DATE:20131105
END:VEVENT
END:VCALENDAR
